BEGIN:VCALENDAR
VERSION:2.0
PRODID:-//childrensmuseumstockton.org//NONSGML kigkonsult.se iCalcreator 2.
 30.10//
CALSCALE:GREGORIAN
METHOD:PUBLISH
UID:44ec02f1-daf5-4196-9eda-e5c090132a9a
X-WR-CALDESC:Event included in the price of same-day general admission of $
 10 per person. Children under the age of 1 year are free.
X-WR-RELCALID:12784676a311ac74a65c77a29565b042
X-WR-TIMEZONE:America/Los_Angeles
BEGIN:VTIMEZONE
TZID:America/Los_Angeles
BEGIN:STANDARD
TZNAME:PST
DTSTART:20251102T020000
TZOFFSETFROM:-0700
TZOFFSETTO:-0800
RDATE:20261101T020000
RDATE:20271107T020000
END:STANDARD
BEGIN:DAYLIGHT
TZNAME:PDT
DTSTART:20260308T020000
TZOFFSETFROM:-0800
TZOFFSETTO:-0700
RDATE:20270314T020000
END:DAYLIGHT
END:VTIMEZONE
BEGIN:VEVENT
UID:cc15d6e1-e738-46fb-bcc9-d6eca815a067
DTSTAMP:20260420T170145Z
DESCRIPTION:Event included in the price of same-day general admission of $1
 0 per person. Children under the age of 1 year are free.
DTSTART;TZID=America/Los_Angeles:20260516T110000
DTEND;TZID=America/Los_Angeles:20260516T130000
LOCATION:402 W Weber Ave\, Stockton\, CA 95203\, Stockton\, CA 95203 US
SUMMARY:Super Saturday: Puppet Program
END:VEVENT
END:VCALENDAR
